BEGIN:VCALENDAR
VERSION:2.0
PRODID:-//Blue Suede Crew - ECPv6.15.20//NONSGML v1.0//EN
CALSCALE:GREGORIAN
METHOD:PUBLISH
X-ORIGINAL-URL:https://bluesuedecrew.com
X-WR-CALDESC:Events for Blue Suede Crew
REFRESH-INTERVAL;VALUE=DURATION:PT1H
X-Robots-Tag:noindex
X-PUBLISHED-TTL:PT1H
BEGIN:VTIMEZONE
TZID:America/Los_Angeles
BEGIN:DAYLIGHT
TZOFFSETFROM:-0800
TZOFFSETTO:-0700
TZNAME:PDT
DTSTART:20220313T100000
END:DAYLIGHT
BEGIN:STANDARD
TZOFFSETFROM:-0700
TZOFFSETTO:-0800
TZNAME:PST
DTSTART:20221106T090000
END:STANDARD
BEGIN:DAYLIGHT
TZOFFSETFROM:-0800
TZOFFSETTO:-0700
TZNAME:PDT
DTSTART:20230312T100000
END:DAYLIGHT
BEGIN:STANDARD
TZOFFSETFROM:-0700
TZOFFSETTO:-0800
TZNAME:PST
DTSTART:20231105T090000
END:STANDARD
BEGIN:DAYLIGHT
TZOFFSETFROM:-0800
TZOFFSETTO:-0700
TZNAME:PDT
DTSTART:20240310T100000
END:DAYLIGHT
BEGIN:STANDARD
TZOFFSETFROM:-0700
TZOFFSETTO:-0800
TZNAME:PST
DTSTART:20241103T090000
END:STANDARD
END:VTIMEZONE
BEGIN:VEVENT
DTSTART;TZID=America/Los_Angeles:20231028T180000
DTEND;TZID=America/Los_Angeles:20231028T210000
DTSTAMP:20260424T102003
CREATED:20230924T193509Z
LAST-MODIFIED:20231004T054813Z
UID:438-1698516000-1698526800@bluesuedecrew.com
SUMMARY:Blue Suede Crew at Steele 94
DESCRIPTION:Let’s have a haunting good time with Elvis and the Blue Suede crew performing from 6-9 PM.
URL:https://bluesuedecrew.com/event/blue-suede-crew-at-steele-94/
LOCATION:Steele 94\, 12891 Campo Road\, Spring Valley\, CA\, 91978\, United States
END:VEVENT
END:VCALENDAR