BEGIN:VCALENDAR
VERSION:2.0
PRODID:-//Blue Suede Crew - ECPv6.15.20//NONSGML v1.0//EN
CALSCALE:GREGORIAN
METHOD:PUBLISH
X-WR-CALNAME:Blue Suede Crew
X-ORIGINAL-URL:https://bluesuedecrew.com
X-WR-CALDESC:Events for Blue Suede Crew
REFRESH-INTERVAL;VALUE=DURATION:PT1H
X-Robots-Tag:noindex
X-PUBLISHED-TTL:PT1H
BEGIN:VTIMEZONE
TZID:America/Los_Angeles
BEGIN:DAYLIGHT
TZOFFSETFROM:-0800
TZOFFSETTO:-0700
TZNAME:PDT
DTSTART:20230312T100000
END:DAYLIGHT
BEGIN:STANDARD
TZOFFSETFROM:-0700
TZOFFSETTO:-0800
TZNAME:PST
DTSTART:20231105T090000
END:STANDARD
BEGIN:DAYLIGHT
TZOFFSETFROM:-0800
TZOFFSETTO:-0700
TZNAME:PDT
DTSTART:20240310T100000
END:DAYLIGHT
BEGIN:STANDARD
TZOFFSETFROM:-0700
TZOFFSETTO:-0800
TZNAME:PST
DTSTART:20241103T090000
END:STANDARD
BEGIN:DAYLIGHT
TZOFFSETFROM:-0800
TZOFFSETTO:-0700
TZNAME:PDT
DTSTART:20250309T100000
END:DAYLIGHT
BEGIN:STANDARD
TZOFFSETFROM:-0700
TZOFFSETTO:-0800
TZNAME:PST
DTSTART:20251102T090000
END:STANDARD
END:VTIMEZONE
BEGIN:VEVENT
DTSTART;TZID=America/Los_Angeles:20241214T190000
DTEND;TZID=America/Los_Angeles:20241214T230000
DTSTAMP:20260419T113220
CREATED:20241204T233207Z
LAST-MODIFIED:20241204T233207Z
UID:717-1734202800-1734217200@bluesuedecrew.com
SUMMARY:Blue Suede Crew at Mainstream Bar and Grill on Saturday\, December 14\, 2024 - 7:00 - 11:00 PM
DESCRIPTION:December 14 @ 7:00 pm – 11:00 pm \n \nCome join us on a fun Saturday night for some live music and amazing food\, drinks and views at Mainstream Poway.
URL:https://bluesuedecrew.com/event/blue-suede-crew-at-mainstream-bar-and-grill-on-saturday-december-14-2024-700-1100-pm/
LOCATION:Mainstream East\, 13385 Poway Road\, Poway\, CA\, 92064\, United States
END:VEVENT
END:VCALENDAR