BEGIN:VCALENDAR
VERSION:2.0
PRODID:-//Blue Suede Crew - ECPv6.15.20//NONSGML v1.0//EN
CALSCALE:GREGORIAN
METHOD:PUBLISH
X-WR-CALNAME:Blue Suede Crew
X-ORIGINAL-URL:https://bluesuedecrew.com
X-WR-CALDESC:Events for Blue Suede Crew
REFRESH-INTERVAL;VALUE=DURATION:PT1H
X-Robots-Tag:noindex
X-PUBLISHED-TTL:PT1H
BEGIN:VTIMEZONE
TZID:America/Los_Angeles
BEGIN:DAYLIGHT
TZOFFSETFROM:-0800
TZOFFSETTO:-0700
TZNAME:PDT
DTSTART:20240310T100000
END:DAYLIGHT
BEGIN:STANDARD
TZOFFSETFROM:-0700
TZOFFSETTO:-0800
TZNAME:PST
DTSTART:20241103T090000
END:STANDARD
BEGIN:DAYLIGHT
TZOFFSETFROM:-0800
TZOFFSETTO:-0700
TZNAME:PDT
DTSTART:20250309T100000
END:DAYLIGHT
BEGIN:STANDARD
TZOFFSETFROM:-0700
TZOFFSETTO:-0800
TZNAME:PST
DTSTART:20251102T090000
END:STANDARD
BEGIN:DAYLIGHT
TZOFFSETFROM:-0800
TZOFFSETTO:-0700
TZNAME:PDT
DTSTART:20260308T100000
END:DAYLIGHT
BEGIN:STANDARD
TZOFFSETFROM:-0700
TZOFFSETTO:-0800
TZNAME:PST
DTSTART:20261101T090000
END:STANDARD
BEGIN:DAYLIGHT
TZOFFSETFROM:-0800
TZOFFSETTO:-0700
TZNAME:PDT
DTSTART:20270314T100000
END:DAYLIGHT
BEGIN:STANDARD
TZOFFSETFROM:-0700
TZOFFSETTO:-0800
TZNAME:PST
DTSTART:20271107T090000
END:STANDARD
END:VTIMEZONE
BEGIN:VTIMEZONE
TZID:America/Los_Angeles
BEGIN:DAYLIGHT
TZOFFSETFROM:-0800
TZOFFSETTO:-0700
TZNAME:PDT
DTSTART:20240310T100000
END:DAYLIGHT
BEGIN:STANDARD
TZOFFSETFROM:-0700
TZOFFSETTO:-0800
TZNAME:PST
DTSTART:20241103T090000
END:STANDARD
BEGIN:DAYLIGHT
TZOFFSETFROM:-0800
TZOFFSETTO:-0700
TZNAME:PDT
DTSTART:20250309T100000
END:DAYLIGHT
BEGIN:STANDARD
TZOFFSETFROM:-0700
TZOFFSETTO:-0800
TZNAME:PST
DTSTART:20251102T090000
END:STANDARD
BEGIN:DAYLIGHT
TZOFFSETFROM:-0800
TZOFFSETTO:-0700
TZNAME:PDT
DTSTART:20260308T100000
END:DAYLIGHT
BEGIN:STANDARD
TZOFFSETFROM:-0700
TZOFFSETTO:-0800
TZNAME:PST
DTSTART:20261101T090000
END:STANDARD
BEGIN:DAYLIGHT
TZOFFSETFROM:-0800
TZOFFSETTO:-0700
TZNAME:PDT
DTSTART:20270314T100000
END:DAYLIGHT
BEGIN:STANDARD
TZOFFSETFROM:-0700
TZOFFSETTO:-0800
TZNAME:PST
DTSTART:20271107T090000
END:STANDARD
END:VTIMEZONE
BEGIN:VEVENT
DTSTART;TZID=America/Los_Angeles:20250321T180000
DTEND;TZID=America/Los_Angeles:20250321T210000
DTSTAMP:20260419T094833
CREATED:20250306T004329Z
LAST-MODIFIED:20250306T011557Z
UID:765-1742580000-1742590800@bluesuedecrew.com
SUMMARY:Blue Suede Crew at Mainstream West
DESCRIPTION:Come on out for a fun Friday night with Live Music of Elvis tunes and Classic Rock with great food and drinks and good friends!
URL:https://bluesuedecrew.com/event/blue-suede-crew-at-mainstream-west/
LOCATION:Mainstream West\, 6030 Paseo Del Norte\, Carlsbad\, CA\, 92011\, United States
END:VEVENT
BEGIN:VEVENT
DTSTART;TZID=America/Los_Angeles:20250510T180000
DTEND;TZID=America/Los_Angeles:20250510T210000
DTSTAMP:20260419T094833
CREATED:20250422T205841Z
LAST-MODIFIED:20250422T205841Z
UID:787-1746900000-1746910800@bluesuedecrew.com
SUMMARY:Blue Suede Crew At Mainstream West
DESCRIPTION:Come join us for a fun Saturday night at Mainstream West from 6-9 PM with the music of Elvis Presley and more!
URL:https://bluesuedecrew.com/event/blue-suede-crew-at-mainstream-west-2/
LOCATION:Mainstream West\, 6030 Paseo Del Norte\, Carlsbad\, CA\, 92011\, United States
END:VEVENT
BEGIN:VEVENT
DTSTART;TZID=America/Los_Angeles:20250607T150000
DTEND;TZID=America/Los_Angeles:20250607T180000
DTSTAMP:20260419T094833
CREATED:20250525T023257Z
LAST-MODIFIED:20250525T023257Z
UID:825-1749308400-1749319200@bluesuedecrew.com
SUMMARY:Private Party for Shay's going away
DESCRIPTION: Moving Away Party for Shay
URL:https://bluesuedecrew.com/event/private-party-for-shays-going-away/
LOCATION:VFW San Marcos\, 212 W Mission Road\, San Marcos\, CA\, 92069\, United States
END:VEVENT
BEGIN:VEVENT
DTSTART;TZID=America/Los_Angeles:20250614T190000
DTEND;TZID=America/Los_Angeles:20250614T213000
DTSTAMP:20260419T094833
CREATED:20250325T220117Z
LAST-MODIFIED:20250325T220117Z
UID:780-1749927600-1749936600@bluesuedecrew.com
SUMMARY:Rock N Roll Royalty Elvis and The Beatles Tribute Night
DESCRIPTION:Two great bands in one show!
URL:https://bluesuedecrew.com/event/rock-n-roll-royalty-elvis-and-the-beatles-tribute-night/
LOCATION:The Bornemann\, 555 Deer Springs Road\, San Marcos\, CA\, 92069\, United States
END:VEVENT
BEGIN:VEVENT
DTSTART;TZID=America/Los_Angeles:20250628T180000
DTEND;TZID=America/Los_Angeles:20250628T210000
DTSTAMP:20260419T094833
CREATED:20250515T224856Z
LAST-MODIFIED:20250515T224856Z
UID:801-1751133600-1751144400@bluesuedecrew.com
SUMMARY:Blue Suede Crew Returns to Mainstream West
DESCRIPTION:Come join us for a fun filled Saturday night!
URL:https://bluesuedecrew.com/event/blue-suede-crew-returns-to-mainstream-west/
LOCATION:Mainstream West\, 6030 Paseo Del Norte\, Carlsbad\, CA\, 92011\, United States
END:VEVENT
BEGIN:VEVENT
DTSTART;TZID=America/Los_Angeles:20250714T123000
DTEND;TZID=America/Los_Angeles:20250714T133000
DTSTAMP:20260419T094833
CREATED:20250307T005029Z
LAST-MODIFIED:20250307T005029Z
UID:770-1752496200-1752499800@bluesuedecrew.com
SUMMARY:Blue Suede Crew at City of Carlsbad Senior Center
DESCRIPTION:
URL:https://bluesuedecrew.com/event/blue-suede-crew-at-city-of-carlsbad-senior-center/
LOCATION:Carlsbad Senior Center\, 799 Pine Avenue\, Carlsbad\, CA\, 92008\, United States
END:VEVENT
BEGIN:VEVENT
DTSTART;TZID=America/Los_Angeles:20250718T170000
DTEND;TZID=America/Los_Angeles:20250718T200000
DTSTAMP:20260419T094833
CREATED:20250427T170122Z
LAST-MODIFIED:20250427T170122Z
UID:790-1752858000-1752868800@bluesuedecrew.com
SUMMARY:Private Event   Blue Suede Crew at Palomar West Estates
DESCRIPTION:
URL:https://bluesuedecrew.com/event/private-event-blue-suede-crew-at-palomar-west-estates/
LOCATION:Palomar West Estates\, 1930 West San Marcos Blvd.\, San Marcos\, CA\, United States
END:VEVENT
BEGIN:VEVENT
DTSTART;TZID=America/Los_Angeles:20250725T170000
DTEND;TZID=America/Los_Angeles:20250725T200000
DTSTAMP:20260419T094833
CREATED:20250505T204746Z
LAST-MODIFIED:20250505T205004Z
UID:796-1753462800-1753473600@bluesuedecrew.com
SUMMARY:Come out to beautiful Arrowood Golf Course for a memorable night of live music\, great food and drinks and dancing.
DESCRIPTION:Blue Suede Crew Returns to Arrowood Golf Course.
URL:https://bluesuedecrew.com/event/come-out-to-beautiful-arrowood-golf-course-for-a-great-night-of-live-music-great-food-and-drinks-and-dancing/
LOCATION:Arrowood Golf Course\, 5201 Village Drive\, Oceanside\, CA\, 92057\, United States
END:VEVENT
BEGIN:VEVENT
DTSTART;TZID=America/Los_Angeles:20250726T190000
DTEND;TZID=America/Los_Angeles:20250726T230000
DTSTAMP:20260419T094833
CREATED:20250724T011529Z
LAST-MODIFIED:20250724T011933Z
UID:843-1753556400-1753570800@bluesuedecrew.com
SUMMARY:Blue Suede Crew at Mainstream Poway  Come join us for a fun Saturday night with live music\, dancing\, great food and drinks and fun with friends!
DESCRIPTION:
URL:https://bluesuedecrew.com/event/blue-suede-crew-at-mainstream-poway/
LOCATION:Mainstream Poway\, 13385 Poway Road\, Poway\, CA\, 92064\, United States
END:VEVENT
BEGIN:VEVENT
DTSTART;TZID=America/Los_Angeles:20250823T180000
DTEND;TZID=America/Los_Angeles:20250823T210000
DTSTAMP:20260419T094833
CREATED:20250724T041723Z
LAST-MODIFIED:20250724T041723Z
UID:862-1755972000-1755982800@bluesuedecrew.com
SUMMARY:Blue Suede Crew at Mainstream West  Come join us for a fun evening of live music\, great food and drinks and good friends.
DESCRIPTION:
URL:https://bluesuedecrew.com/event/blue-suede-crew-at-mainstream-west-come-join-us-for-a-fun-evening-of-live-music-great-food-and-drinks-and-good-friends/
LOCATION:Mainstream West\, 6030 Paseo Del Norte\, Carlsbad\, CA\, 92011\, United States
END:VEVENT
BEGIN:VEVENT
DTSTART;TZID=America/Los_Angeles:20250914T110000
DTEND;TZID=America/Los_Angeles:20250914T130000
DTSTAMP:20260419T094833
CREATED:20250819T171929Z
LAST-MODIFIED:20250819T172536Z
UID:884-1757847600-1757854800@bluesuedecrew.com
SUMMARY:Blue Suede Crew at Mission San Luis Rey for Fiestas Patrias Latinas
DESCRIPTION:Come join us from this fun event with dancing\, good food\, friends and family and enjoy the beautiful setting of Mission San Luis Rey for this wonderful event! ￼
URL:https://bluesuedecrew.com/event/blue-suede-crew-at-mission-san-luis-rey-for-fiestas-patrias-latinas/
LOCATION:Mission San Luis Rey\, 4070 Mission Avenue\, Oceanside\, CA\, 92057\, United States
END:VEVENT
BEGIN:VEVENT
DTSTART;TZID=America/Los_Angeles:20250920T180000
DTEND;TZID=America/Los_Angeles:20250920T210000
DTSTAMP:20260419T094833
CREATED:20250810T233246Z
LAST-MODIFIED:20250810T233246Z
UID:868-1758391200-1758402000@bluesuedecrew.com
SUMMARY:Blue Suede Crew at Mainstream West
DESCRIPTION:Blue Suede Crew rocking out Mainstream West!  Come out for a Saturday night and join the fun!
URL:https://bluesuedecrew.com/event/blue-suede-crew-at-mainstream-west-3/
LOCATION:Mainstream West\, 6030 Paseo Del Norte\, Carlsbad\, CA\, 92011\, United States
END:VEVENT
BEGIN:VEVENT
DTSTART;TZID=America/Los_Angeles:20251025T180000
DTEND;TZID=America/Los_Angeles:20251025T210000
DTSTAMP:20260419T094833
CREATED:20250810T233710Z
LAST-MODIFIED:20250810T233710Z
UID:873-1761415200-1761426000@bluesuedecrew.com
SUMMARY:Blue Suede Crew Returns to Mainstream West
DESCRIPTION:Come join us for a fun Saturday night of live music\, friends\, great food and drinks!
URL:https://bluesuedecrew.com/event/blue-suede-crew-returns-to-mainstream-west-2/
LOCATION:Mainstream West\, 6030 Paseo Del Norte\, Carlsbad\, CA\, 92011\, United States
END:VEVENT
BEGIN:VEVENT
DTSTART;TZID=America/Los_Angeles:20251031T180000
DTEND;TZID=America/Los_Angeles:20251031T210000
DTSTAMP:20260419T094833
CREATED:20250926T194612Z
LAST-MODIFIED:20250926T194612Z
UID:889-1761933600-1761944400@bluesuedecrew.com
SUMMARY:Blue Suede Crew For a Fun Halloween Show
DESCRIPTION:
URL:https://bluesuedecrew.com/event/blue-suede-crew-for-a-fun-halloween-show/
LOCATION:Vista Elks Lodge\, 1947 E Vista Way\, Vista\, CA\, 92084\, United States
END:VEVENT
BEGIN:VEVENT
DTSTART;TZID=America/Los_Angeles:20251114T180000
DTEND;TZID=America/Los_Angeles:20251114T210000
DTSTAMP:20260419T094833
CREATED:20251104T232242Z
LAST-MODIFIED:20251104T232242Z
UID:895-1763143200-1763154000@bluesuedecrew.com
SUMMARY:Blue Suede Crew at Mainstream West
DESCRIPTION:Come join us for Friday night of fun with live music\, good food\, drinks. and friends!
URL:https://bluesuedecrew.com/event/blue-suede-crew-at-mainstream-west-4/
LOCATION:Mainstream West\, 6030 Paseo Del Norte\, Carlsbad\, CA\, 92011\, United States
END:VEVENT
BEGIN:VEVENT
DTSTART;TZID=America/Los_Angeles:20251123T140000
DTEND;TZID=America/Los_Angeles:20251123T170000
DTSTAMP:20260419T094833
CREATED:20251126T011015Z
LAST-MODIFIED:20251126T011015Z
UID:904-1763906400-1763917200@bluesuedecrew.com
SUMMARY:Blue Suede Crew at VFW San Marcos
DESCRIPTION:
URL:https://bluesuedecrew.com/event/blue-suede-crew-at-vfw-san-marcos/
LOCATION:VFW San Marcos\, 212 W Mission Road\, San Marcos\, CA\, 92069\, United States
END:VEVENT
BEGIN:VEVENT
DTSTART;TZID=America/Los_Angeles:20251213T130000
DTEND;TZID=America/Los_Angeles:20251213T163000
DTSTAMP:20260419T094833
CREATED:20251211T001738Z
LAST-MODIFIED:20251211T001738Z
UID:915-1765630800-1765643400@bluesuedecrew.com
SUMMARY:Private Holiday Party for PMASD
DESCRIPTION:
URL:https://bluesuedecrew.com/event/private-holiday-party-for-pmasd/
LOCATION:CA
END:VEVENT
BEGIN:VEVENT
DTSTART;TZID=America/Los_Angeles:20251226T180000
DTEND;TZID=America/Los_Angeles:20251226T210000
DTSTAMP:20260419T094833
CREATED:20251104T232844Z
LAST-MODIFIED:20251104T232844Z
UID:899-1766772000-1766782800@bluesuedecrew.com
SUMMARY:Blue Suede Crew returns to Mainstream West
DESCRIPTION:Continue your Holiday celebrating with Blue Suede Crew from 6-9 PM.
URL:https://bluesuedecrew.com/event/blue-suede-crew-returns-to-mainstream-west-3/
LOCATION:Mainstream West\, 6030 Paseo Del Norte\, Carlsbad\, CA\, 92011\, United States
END:VEVENT
BEGIN:VEVENT
DTSTART;TZID=America/Los_Angeles:20260110T180000
DTEND;TZID=America/Los_Angeles:20260110T220000
DTSTAMP:20260419T094833
CREATED:20251225T200255Z
LAST-MODIFIED:20251225T201838Z
UID:924-1768068000-1768082400@bluesuedecrew.com
SUMMARY:Blue Suede Crew at Escondido Moose Lodge
DESCRIPTION:
URL:https://bluesuedecrew.com/event/blue-suede-crew-at-escondido-moose-lodge/
LOCATION:Escondido  Moose Lodge\, 25721 Jesmond Dene Road\, Escondido\, CA\, 92026\, United States
END:VEVENT
BEGIN:VEVENT
DTSTART;TZID=America/Los_Angeles:20260116T180000
DTEND;TZID=America/Los_Angeles:20260116T210000
DTSTAMP:20260419T094833
CREATED:20251225T202331Z
LAST-MODIFIED:20251225T202331Z
UID:930-1768586400-1768597200@bluesuedecrew.com
SUMMARY:Private Event  Blue Suede Crew at Palomar West Estates
DESCRIPTION:
URL:https://bluesuedecrew.com/event/private-event-blue-suede-crew-at-palomar-west-estates-2/
LOCATION:Palomar West Estates\, 1930 West San Marcos Blvd.\, San Marcos\, CA\, United States
END:VEVENT
BEGIN:VEVENT
DTSTART;TZID=America/Los_Angeles:20260130T180000
DTEND;TZID=America/Los_Angeles:20260130T210000
DTSTAMP:20260419T094833
CREATED:20260112T025627Z
LAST-MODIFIED:20260112T025627Z
UID:934-1769796000-1769806800@bluesuedecrew.com
SUMMARY:Blue Suede Crew Rocking Mainstream West from 6-9 PM on Friday\, January 30\, 2026
DESCRIPTION:
URL:https://bluesuedecrew.com/event/blue-suede-crew-rocking-mainstream-west-from-6-9-pm-on-friday-january-30-2026/
LOCATION:Mainstream West\, 6030 Paseo Del Norte\, Carlsbad\, CA\, 92011\, United States
END:VEVENT
BEGIN:VEVENT
DTSTART;TZID=America/Los_Angeles:20260221T170000
DTEND;TZID=America/Los_Angeles:20260221T200000
DTSTAMP:20260419T094833
CREATED:20260203T030335Z
LAST-MODIFIED:20260203T030335Z
UID:947-1771693200-1771704000@bluesuedecrew.com
SUMMARY:Blue Suede Crew at Breakers Hawaiian Restaurant
DESCRIPTION:Join us for a fun night with delicious food and drinks and live music!
URL:https://bluesuedecrew.com/event/blue-suede-crew-at-breakers-hawaiian-restaurant/
LOCATION:Breakers\, 481 Santa Fe Drive\, Encinitas\, CA\, 92024\, United States
END:VEVENT
BEGIN:VEVENT
DTSTART;TZID=America/Los_Angeles:20260227T180000
DTEND;TZID=America/Los_Angeles:20260227T210000
DTSTAMP:20260419T094833
CREATED:20260213T185416Z
LAST-MODIFIED:20260213T185416Z
UID:953-1772215200-1772226000@bluesuedecrew.com
SUMMARY:Blue Suede Crew Rocks the House at Mainstream West
DESCRIPTION:Come join us on a Friday night for great food and drinks\, live music and fun times with friends.
URL:https://bluesuedecrew.com/event/blue-suede-crew-rocks-the-house-at-mainstream-west/
LOCATION:Mainstream West\, 6030 Paseo Del Norte\, Carlsbad\, CA\, 92011\, United States
END:VEVENT
BEGIN:VEVENT
DTSTART;TZID=America/Los_Angeles:20260327T190000
DTEND;TZID=America/Los_Angeles:20260327T223000
DTSTAMP:20260419T094833
CREATED:20260226T223750Z
LAST-MODIFIED:20260226T223750Z
UID:959-1774638000-1774650600@bluesuedecrew.com
SUMMARY:Blue Suede Crew Rocks the Encinitas Elks Lodge
DESCRIPTION:Come join us for a fun night of live music\, dancing and spending time with friends!
URL:https://bluesuedecrew.com/event/blue-suede-crew-rocks-the-encinitas-elks-lodge/
LOCATION:Encinitas Elks Lodge\, 1393 Windsor Road\, Cardiff\, CA\, 92007\, United States
END:VEVENT
BEGIN:VEVENT
DTSTART;TZID=America/Los_Angeles:20260403T180000
DTEND;TZID=America/Los_Angeles:20260403T210000
DTSTAMP:20260419T094833
CREATED:20260325T014952Z
LAST-MODIFIED:20260325T014952Z
UID:965-1775239200-1775250000@bluesuedecrew.com
SUMMARY:Blue Suede Crew at Mainstream West
DESCRIPTION:Come join us for a fun Friday night with live music\, great food and drinks and good friends!
URL:https://bluesuedecrew.com/event/blue-suede-crew-at-mainstream-west-5/
LOCATION:Mainstream West\, 6030 Paseo Del Norte\, Carlsbad\, CA\, 92011\, United States
END:VEVENT
BEGIN:VEVENT
DTSTART;TZID=America/Los_Angeles:20260501T180000
DTEND;TZID=America/Los_Angeles:20260501T210000
DTSTAMP:20260419T094833
CREATED:20260404T232819Z
LAST-MODIFIED:20260404T232819Z
UID:995-1777658400-1777669200@bluesuedecrew.com
SUMMARY:Blue Suede Crew at Mainstream West on May 1\, 2026
DESCRIPTION:Start the month out right on a Friday night with Blue Suede Crew live music!
URL:https://bluesuedecrew.com/event/blue-suede-crew-at-mainstream-west-on-may-1-2026/
LOCATION:Mainstream West\, 6030 Paseo Del Norte\, Carlsbad\, CA\, 92011\, United States
END:VEVENT
BEGIN:VEVENT
DTSTART;TZID=America/Los_Angeles:20260522T190000
DTEND;TZID=America/Los_Angeles:20260522T210000
DTSTAMP:20260419T094833
CREATED:20260325T021051Z
LAST-MODIFIED:20260418T010118Z
UID:973-1779476400-1779483600@bluesuedecrew.com
SUMMARY:Blue Suede Crew with Bruce and Claudia at the Bornemann
DESCRIPTION:Come join us for a fun filled evening with Bruce and Claudia for a great cause at the Bornemann!
URL:https://bluesuedecrew.com/event/blue-suede-crew-with-bruce-and-claudia-at-the-bornemann/
LOCATION:The Bornemann Teri Campus of Life\, 555 Deer Springs Road\, San Marcos\, CA\, 92069\, United States
END:VEVENT
BEGIN:VEVENT
DTSTART;TZID=America/Los_Angeles:20260529T180000
DTEND;TZID=America/Los_Angeles:20260529T210000
DTSTAMP:20260419T094833
CREATED:20260325T021904Z
LAST-MODIFIED:20260325T021904Z
UID:982-1780077600-1780088400@bluesuedecrew.com
SUMMARY:Blue Suede Crew at Mainstream West
DESCRIPTION:Come out for a fun filled Friday night with live music\, great food and drinks and good friends!
URL:https://bluesuedecrew.com/event/blue-suede-crew-at-mainstream-west-6/
LOCATION:Mainstream West\, 6030 Paseo Del Norte\, Carlsbad\, CA\, 92011\, United States
END:VEVENT
BEGIN:VEVENT
DTSTART;TZID=America/Los_Angeles:20260619T180000
DTEND;TZID=America/Los_Angeles:20260619T210000
DTSTAMP:20260419T094833
CREATED:20260325T022539Z
LAST-MODIFIED:20260404T233056Z
UID:985-1781892000-1781902800@bluesuedecrew.com
SUMMARY:Blue Suede Crew at Palomar Estates West  Private Event
DESCRIPTION:The Social Connection Presents Private Event! Doors open at 4:30 PM
URL:https://bluesuedecrew.com/event/blue-suede-crew-at-palomar-west-estates-private-event/
LOCATION:Palomar West Estates\, 1930 West San Marcos Blvd.\, San Marcos\, CA\, United States
END:VEVENT
BEGIN:VEVENT
DTSTART;TZID=America/Los_Angeles:20260626T180000
DTEND;TZID=America/Los_Angeles:20260626T210000
DTSTAMP:20260419T094833
CREATED:20260325T022850Z
LAST-MODIFIED:20260325T022850Z
UID:990-1782496800-1782507600@bluesuedecrew.com
SUMMARY:Blue Suede Crew at Mainstream West
DESCRIPTION:Friday night fun with Blue Suede Crew live music\, great food and drinks and good friends at Mainstream West!
URL:https://bluesuedecrew.com/event/blue-suede-crew-at-mainstream-west-7/
LOCATION:Mainstream West\, 6030 Paseo Del Norte\, Carlsbad\, CA\, 92011\, United States
END:VEVENT
END:VCALENDAR