BEGIN:VCALENDAR
VERSION:2.0
PRODID:-//Blue Suede Crew - ECPv6.15.20//NONSGML v1.0//EN
CALSCALE:GREGORIAN
METHOD:PUBLISH
X-WR-CALNAME:Blue Suede Crew
X-ORIGINAL-URL:https://bluesuedecrew.com
X-WR-CALDESC:Events for Blue Suede Crew
REFRESH-INTERVAL;VALUE=DURATION:PT1H
X-Robots-Tag:noindex
X-PUBLISHED-TTL:PT1H
BEGIN:VTIMEZONE
TZID:America/Los_Angeles
BEGIN:DAYLIGHT
TZOFFSETFROM:-0800
TZOFFSETTO:-0700
TZNAME:PDT
DTSTART:20220313T100000
END:DAYLIGHT
BEGIN:STANDARD
TZOFFSETFROM:-0700
TZOFFSETTO:-0800
TZNAME:PST
DTSTART:20221106T090000
END:STANDARD
BEGIN:DAYLIGHT
TZOFFSETFROM:-0800
TZOFFSETTO:-0700
TZNAME:PDT
DTSTART:20230312T100000
END:DAYLIGHT
BEGIN:STANDARD
TZOFFSETFROM:-0700
TZOFFSETTO:-0800
TZNAME:PST
DTSTART:20231105T090000
END:STANDARD
BEGIN:DAYLIGHT
TZOFFSETFROM:-0800
TZOFFSETTO:-0700
TZNAME:PDT
DTSTART:20240310T100000
END:DAYLIGHT
BEGIN:STANDARD
TZOFFSETFROM:-0700
TZOFFSETTO:-0800
TZNAME:PST
DTSTART:20241103T090000
END:STANDARD
END:VTIMEZONE
BEGIN:VEVENT
DTSTART;TZID=America/Los_Angeles:20230915T180000
DTEND;TZID=America/Los_Angeles:20230915T210000
DTSTAMP:20260419T180611
CREATED:20230902T022914Z
LAST-MODIFIED:20230902T022914Z
UID:410-1694800800-1694811600@bluesuedecrew.com
SUMMARY:Blue Suede Crew at Hello Betty's
DESCRIPTION:Join us on Friday night\, September 15 from 6-9 PM on the rooftop at Hello Betty’s in downtown Oceanside!
URL:https://bluesuedecrew.com/event/blue-suede-crew-at-hello-bettys/
LOCATION:Hello Betty’s\, 211 Mission Avenue\, Oceanside\, CA\, 92054\, United States
END:VEVENT
BEGIN:VEVENT
DTSTART;TZID=America/Los_Angeles:20230910T110000
DTEND;TZID=America/Los_Angeles:20230910T130000
DTSTAMP:20260419T180611
CREATED:20230820T235216Z
LAST-MODIFIED:20230821T000503Z
UID:155-1694343600-1694350800@bluesuedecrew.com
SUMMARY:Blue Suede Crew at Mission San Luis Rey Fiesta
DESCRIPTION:Blue Suede Crew at the Mission San Luis Rey Fiesta\n  \nCome join us for this outdoor event with live music\, dancing\, food and fun!
URL:https://bluesuedecrew.com/event/blue-suede-crew-at-mission-san-luis-rey-fiesta/
LOCATION:Mission San Luis Rey\, 4070 Mission Avenue\, Oceanside\, CA\, 92057\, United States
END:VEVENT
BEGIN:VEVENT
DTSTART;TZID=America/Los_Angeles:20230908T200000
DTEND;TZID=America/Los_Angeles:20230908T210000
DTSTAMP:20260419T180611
CREATED:20230820T233115Z
LAST-MODIFIED:20230902T023956Z
UID:149-1694203200-1694206800@bluesuedecrew.com
SUMMARY:Blue Suede Crew at the Coach House San Juan Capistrano
DESCRIPTION:Come join us for a great evening of live music\, great food and drinks and ambiance at the classic venue-The Coach House in Orange County.
URL:https://bluesuedecrew.com/event/blue-suede-crew-at-the-coach-house-san-juan-capistrano/
LOCATION:Coach House\, 33157Camino Capistrano\, San Juan Capistrano\, CA\, 92675\, United States
END:VEVENT
END:VCALENDAR