BEGIN:VCALENDAR
VERSION:2.0
PRODID:-//Blue Suede Crew - ECPv6.15.20//NONSGML v1.0//EN
CALSCALE:GREGORIAN
METHOD:PUBLISH
X-WR-CALNAME:Blue Suede Crew
X-ORIGINAL-URL:https://bluesuedecrew.com
X-WR-CALDESC:Events for Blue Suede Crew
REFRESH-INTERVAL;VALUE=DURATION:PT1H
X-Robots-Tag:noindex
X-PUBLISHED-TTL:PT1H
BEGIN:VTIMEZONE
TZID:America/Los_Angeles
BEGIN:DAYLIGHT
TZOFFSETFROM:-0800
TZOFFSETTO:-0700
TZNAME:PDT
DTSTART:20230312T100000
END:DAYLIGHT
BEGIN:STANDARD
TZOFFSETFROM:-0700
TZOFFSETTO:-0800
TZNAME:PST
DTSTART:20231105T090000
END:STANDARD
BEGIN:DAYLIGHT
TZOFFSETFROM:-0800
TZOFFSETTO:-0700
TZNAME:PDT
DTSTART:20240310T100000
END:DAYLIGHT
BEGIN:STANDARD
TZOFFSETFROM:-0700
TZOFFSETTO:-0800
TZNAME:PST
DTSTART:20241103T090000
END:STANDARD
BEGIN:DAYLIGHT
TZOFFSETFROM:-0800
TZOFFSETTO:-0700
TZNAME:PDT
DTSTART:20250309T100000
END:DAYLIGHT
BEGIN:STANDARD
TZOFFSETFROM:-0700
TZOFFSETTO:-0800
TZNAME:PST
DTSTART:20251102T090000
END:STANDARD
END:VTIMEZONE
BEGIN:VEVENT
DTSTART;TZID=America/Los_Angeles:20240812T123000
DTEND;TZID=America/Los_Angeles:20240812T133000
DTSTAMP:20260419T162842
CREATED:20240612T022253Z
LAST-MODIFIED:20240612T022253Z
UID:594-1723465800-1723469400@bluesuedecrew.com
SUMMARY:Blue Suede Crew at Carlsbad Senior Center
DESCRIPTION:What an amazing afternoon this will be with dancing to Elvis Presley songs-the King of Rock and Roll!
URL:https://bluesuedecrew.com/event/blue-suede-crew-at-carlsbad-senior-center/
LOCATION:CA
END:VEVENT
BEGIN:VEVENT
DTSTART;TZID=America/Los_Angeles:20240823T200000
DTEND;TZID=America/Los_Angeles:20240823T210000
DTSTAMP:20260419T162842
CREATED:20240612T024119Z
LAST-MODIFIED:20240812T170421Z
UID:602-1724443200-1724446800@bluesuedecrew.com
SUMMARY:Blue Suede Crew at the Coach House
DESCRIPTION:
URL:https://bluesuedecrew.com/event/blue-suede-crew-at-the-coach-house/
LOCATION:CA
END:VEVENT
END:VCALENDAR