BEGIN:VCALENDAR
VERSION:2.0
PRODID:-//Blue Suede Crew - ECPv6.15.20//NONSGML v1.0//EN
CALSCALE:GREGORIAN
METHOD:PUBLISH
X-WR-CALNAME:Blue Suede Crew
X-ORIGINAL-URL:https://bluesuedecrew.com
X-WR-CALDESC:Events for Blue Suede Crew
REFRESH-INTERVAL;VALUE=DURATION:PT1H
X-Robots-Tag:noindex
X-PUBLISHED-TTL:PT1H
BEGIN:VTIMEZONE
TZID:America/Los_Angeles
BEGIN:DAYLIGHT
TZOFFSETFROM:-0800
TZOFFSETTO:-0700
TZNAME:PDT
DTSTART:20240310T100000
END:DAYLIGHT
BEGIN:STANDARD
TZOFFSETFROM:-0700
TZOFFSETTO:-0800
TZNAME:PST
DTSTART:20241103T090000
END:STANDARD
BEGIN:DAYLIGHT
TZOFFSETFROM:-0800
TZOFFSETTO:-0700
TZNAME:PDT
DTSTART:20250309T100000
END:DAYLIGHT
BEGIN:STANDARD
TZOFFSETFROM:-0700
TZOFFSETTO:-0800
TZNAME:PST
DTSTART:20251102T090000
END:STANDARD
BEGIN:DAYLIGHT
TZOFFSETFROM:-0800
TZOFFSETTO:-0700
TZNAME:PDT
DTSTART:20260308T100000
END:DAYLIGHT
BEGIN:STANDARD
TZOFFSETFROM:-0700
TZOFFSETTO:-0800
TZNAME:PST
DTSTART:20261101T090000
END:STANDARD
END:VTIMEZONE
BEGIN:VTIMEZONE
TZID:America/Los_Angeles
BEGIN:DAYLIGHT
TZOFFSETFROM:-0800
TZOFFSETTO:-0700
TZNAME:PDT
DTSTART:20240310T100000
END:DAYLIGHT
BEGIN:STANDARD
TZOFFSETFROM:-0700
TZOFFSETTO:-0800
TZNAME:PST
DTSTART:20241103T090000
END:STANDARD
BEGIN:DAYLIGHT
TZOFFSETFROM:-0800
TZOFFSETTO:-0700
TZNAME:PDT
DTSTART:20250309T100000
END:DAYLIGHT
BEGIN:STANDARD
TZOFFSETFROM:-0700
TZOFFSETTO:-0800
TZNAME:PST
DTSTART:20251102T090000
END:STANDARD
BEGIN:DAYLIGHT
TZOFFSETFROM:-0800
TZOFFSETTO:-0700
TZNAME:PDT
DTSTART:20260308T100000
END:DAYLIGHT
BEGIN:STANDARD
TZOFFSETFROM:-0700
TZOFFSETTO:-0800
TZNAME:PST
DTSTART:20261101T090000
END:STANDARD
END:VTIMEZONE
BEGIN:VEVENT
DTSTART;TZID=America/Los_Angeles:20250714T123000
DTEND;TZID=America/Los_Angeles:20250714T133000
DTSTAMP:20260419T082027
CREATED:20250307T005029Z
LAST-MODIFIED:20250307T005029Z
UID:770-1752496200-1752499800@bluesuedecrew.com
SUMMARY:Blue Suede Crew at City of Carlsbad Senior Center
DESCRIPTION:
URL:https://bluesuedecrew.com/event/blue-suede-crew-at-city-of-carlsbad-senior-center/
LOCATION:Carlsbad Senior Center\, 799 Pine Avenue\, Carlsbad\, CA\, 92008\, United States
END:VEVENT
BEGIN:VEVENT
DTSTART;TZID=America/Los_Angeles:20250718T170000
DTEND;TZID=America/Los_Angeles:20250718T200000
DTSTAMP:20260419T082027
CREATED:20250427T170122Z
LAST-MODIFIED:20250427T170122Z
UID:790-1752858000-1752868800@bluesuedecrew.com
SUMMARY:Private Event   Blue Suede Crew at Palomar West Estates
DESCRIPTION:
URL:https://bluesuedecrew.com/event/private-event-blue-suede-crew-at-palomar-west-estates/
LOCATION:Palomar West Estates\, 1930 West San Marcos Blvd.\, San Marcos\, CA\, United States
END:VEVENT
BEGIN:VEVENT
DTSTART;TZID=America/Los_Angeles:20250725T170000
DTEND;TZID=America/Los_Angeles:20250725T200000
DTSTAMP:20260419T082027
CREATED:20250505T204746Z
LAST-MODIFIED:20250505T205004Z
UID:796-1753462800-1753473600@bluesuedecrew.com
SUMMARY:Come out to beautiful Arrowood Golf Course for a memorable night of live music\, great food and drinks and dancing.
DESCRIPTION:Blue Suede Crew Returns to Arrowood Golf Course.
URL:https://bluesuedecrew.com/event/come-out-to-beautiful-arrowood-golf-course-for-a-great-night-of-live-music-great-food-and-drinks-and-dancing/
LOCATION:Arrowood Golf Course\, 5201 Village Drive\, Oceanside\, CA\, 92057\, United States
END:VEVENT
BEGIN:VEVENT
DTSTART;TZID=America/Los_Angeles:20250726T190000
DTEND;TZID=America/Los_Angeles:20250726T230000
DTSTAMP:20260419T082027
CREATED:20250724T011529Z
LAST-MODIFIED:20250724T011933Z
UID:843-1753556400-1753570800@bluesuedecrew.com
SUMMARY:Blue Suede Crew at Mainstream Poway  Come join us for a fun Saturday night with live music\, dancing\, great food and drinks and fun with friends!
DESCRIPTION:
URL:https://bluesuedecrew.com/event/blue-suede-crew-at-mainstream-poway/
LOCATION:Mainstream Poway\, 13385 Poway Road\, Poway\, CA\, 92064\, United States
END:VEVENT
END:VCALENDAR